BEGIN:VCALENDAR
VERSION:2.0
PRODID:-//FDP//NONSGML Website//DE
BEGIN:VEVENT
UID:b6a2df92d0c77a33ee06e50c538ba8e0fdp
DTSTAMP:20260428T190000Z
DTSTART;TZID=Europe/Berlin:20260428T190000
DTEND;TZID=Europe/Berlin:20260428T230000
SUMMARY:fdp-jourfixe
DESCRIPTION:Liebe Parteifreunde, liebe Parteifreundinnen, liebe Interessierte, wir freuen uns, Sie zum JourFixe der FDP Wiesbaden einladen zu können. Der JourFixe ist offen für alle &#8211; Mitglieder, Neumitglieder, Interessierte, Neugierige! Wir treffen uns jeden 4. Dienstag [&hellip;]
LOCATION:Paninoteca\, Mauergasse 19\, 65183 Wiesbaden
END:VEVENT
END:VCALENDAR