BEGIN:VCALENDAR
VERSION:2.0
PRODID:-//FDP//NONSGML Website//DE
BEGIN:VEVENT
UID:4af51222db3036f9fdb4e3756f04e3e8fdp
DTSTAMP:20260526T190000Z
DTSTART;TZID=Europe/Berlin:20260526T190000
DTEND;TZID=Europe/Berlin:20260523T230000
SUMMARY:fdp-jourfixe
DESCRIPTION:Liebe Parteifreunde, liebe Parteifreundinnen, liebe Interessierte, wir freuen uns, Sie zum JourFixe der FDP Wiesbaden einladen zu können. Der JourFixe ist offen für alle &#8211; Mitglieder, Neumitglieder, Interessierte, Neugierige! Wir treffen uns jeden 4. Dienstag [&hellip;]
LOCATION:Paninoteca\, Mauergasse 19\, 65183 Wiesbaden
END:VEVENT
END:VCALENDAR