BEGIN:VCALENDAR
VERSION:2.0
PRODID:-//FDP//NONSGML Website//DE
BEGIN:VEVENT
UID:66098087d999a59ea0f1f26462dde295fdp
DTSTAMP:20260514T100000Z
DTSTART;TZID=Europe/Berlin:20260514T100000
DTEND;TZID=Europe/Berlin:20260514T180000
SUMMARY:swing-und-jazz-konzert-am-vatertag
DESCRIPTION:Liebe FDP&#8217;ler, liebe Interessierte, wir laden Sie herzlich ein, den Vatertag einmal anders zu verbringen: Statt mit dem Bollerwagen auf Vatertagsausflug, lieber mit dem OLDTIMER-Postbus zum Swing und Jazz Konzert nach Mainz-Hechtsheim! Weitere Informationen und [&hellip;]
LOCATION:Jakob Braunwart Weg 3\, 55129 Mainz-Hechtsheim
END:VEVENT
END:VCALENDAR